BEGIN:VCALENDAR
METHOD:REQUEST
PRODID:-//events.orgNONSGML ical.net 4.0//EN
VERSION:2.0
BEGIN:VEVENT
DTEND;VALUE=DATE:20260722
DTSTAMP:20260422T090646Z
DTSTART;VALUE=DATE:20260722
LOCATION:House of Blues Houston\, Houston
ORGANIZER;CN=:mailto:events@events.org
SEQUENCE:0
SUMMARY:The Marvelous Miss Gender starring BOSCO - Ages 18+ w/ Valid ID
UID:7e037540-ed05-43f2-96e3-ee399e67a156
URL:https://events.org/e/The-Marvelous-Miss-Gender-starring-BOSCO---Ag/2FN
 N5NBX
BEGIN:VALARM
ACTION:DISPLAY
SUMMARY:Reminder
TRIGGER:-P1D
END:VALARM
END:VEVENT
END:VCALENDAR
