BEGIN:VCALENDAR
METHOD:REQUEST
PRODID:-//events.orgNONSGML ical.net 4.0//EN
VERSION:2.0
BEGIN:VEVENT
DTEND;VALUE=DATE:20260426
DTSTAMP:20260424T081140Z
DTSTART;VALUE=DATE:20260426
LOCATION:Racket NYC\, New York
ORGANIZER;CN=:mailto:events@events.org
SEQUENCE:0
SUMMARY:Sam Greenfield (18 and Over)
UID:9fb2b82e-29cd-43f2-8a91-0f26fbcbdfbc
URL:https://events.org/e/Sam-Greenfield-18-and-Over/AMUSBC26
BEGIN:VALARM
ACTION:DISPLAY
SUMMARY:Reminder
TRIGGER:-P1D
END:VALARM
END:VEVENT
END:VCALENDAR
