BEGIN:VCALENDAR
METHOD:REQUEST
PRODID:-//events.orgNONSGML ical.net 4.0//EN
VERSION:2.0
BEGIN:VEVENT
DTEND;VALUE=DATE:20260424
DTSTAMP:20260422T090809Z
DTSTART;VALUE=DATE:20260424
LOCATION:Lincoln Center - Vivian Beaumont Theater\, New York
ORGANIZER;CN=:mailto:events@events.org
SEQUENCE:0
SUMMARY:Ragtime
UID:42eda9d0-5758-49b6-97f3-37ac56d602e3
URL:https://events.org/e/Ragtime/968AARK2
BEGIN:VALARM
ACTION:DISPLAY
SUMMARY:Reminder
TRIGGER:-P1D
END:VALARM
END:VEVENT
END:VCALENDAR
