BEGIN:VCALENDAR
METHOD:REQUEST
PRODID:-//events.orgNONSGML ical.net 4.0//EN
VERSION:2.0
BEGIN:VEVENT
DTEND;VALUE=DATE:20260515
DTSTAMP:20260423T133420Z
DTSTART;VALUE=DATE:20260515
LOCATION:Mission Ballroom\, Denver
ORGANIZER;CN=:mailto:events@events.org
SEQUENCE:0
SUMMARY:Opiuo
UID:3ba1eb5b-4330-4dfb-8195-ed0cfe5039b6
URL:https://events.org/e/Opiuo/O3UJ395N
BEGIN:VALARM
ACTION:DISPLAY
SUMMARY:Reminder
TRIGGER:-P1D
END:VALARM
END:VEVENT
END:VCALENDAR
