BEGIN:VCALENDAR
METHOD:REQUEST
PRODID:-//events.orgNONSGML ical.net 4.0//EN
VERSION:2.0
BEGIN:VEVENT
DTEND;VALUE=DATE:20260509
DTSTAMP:20260421T082534Z
DTSTART;VALUE=DATE:20260509
LOCATION:Citizens Bank Park\, Philadelphia
ORGANIZER;CN=:mailto:events@events.org
SEQUENCE:0
SUMMARY:Philadelphia Phillies vs Colorado Rockies: Phil & Phillis Socks pr
 esented by Terminix
UID:184e39cd-e9a4-4638-b2a9-28062fec6102
URL:https://events.org/e/Philadelphia-Phillies-vs-Colorado-Rockies-Phi/IB8
 R2DH4
BEGIN:VALARM
ACTION:DISPLAY
SUMMARY:Reminder
TRIGGER:-P1D
END:VALARM
END:VEVENT
END:VCALENDAR
