BEGIN:VCALENDAR
METHOD:REQUEST
PRODID:-//events.orgNONSGML ical.net 4.0//EN
VERSION:2.0
BEGIN:VEVENT
DTEND;VALUE=DATE:20261010
DTSTAMP:20260422T091705Z
DTSTART;VALUE=DATE:20261010
LOCATION:Citizens Opera House\, Boston
ORGANIZER;CN=:mailto:events@events.org
SEQUENCE:0
SUMMARY:Wicked (Touring)
UID:dcd7c47f-deb5-4ece-ae77-479dec2c65c9
URL:https://events.org/e/Wicked-Touring/LKCRU6NK
BEGIN:VALARM
ACTION:DISPLAY
SUMMARY:Reminder
TRIGGER:-P1D
END:VALARM
END:VEVENT
END:VCALENDAR
