BEGIN:VCALENDAR
METHOD:REQUEST
PRODID:-//events.orgNONSGML ical.net 4.0//EN
VERSION:2.0
BEGIN:VEVENT
DTEND;VALUE=DATE:20260630
DTSTAMP:20260421T104532Z
DTSTART;VALUE=DATE:20260630
LOCATION:Ogden Theatre\, Denver
ORGANIZER;CN=:mailto:events@events.org
SEQUENCE:0
SUMMARY:Wolfmother (16 and Over)
UID:a4892780-0e86-4c8f-825e-32d89bfd6edb
URL:https://events.org/e/Wolfmother-16-and-Over/ROMIVWYG
BEGIN:VALARM
ACTION:DISPLAY
SUMMARY:Reminder
TRIGGER:-P1D
END:VALARM
END:VEVENT
END:VCALENDAR
