BEGIN:VCALENDAR
METHOD:REQUEST
PRODID:-//events.orgNONSGML ical.net 4.0//EN
VERSION:2.0
BEGIN:VEVENT
DTEND;VALUE=DATE:20260630
DTSTAMP:20260424T092403Z
DTSTART;VALUE=DATE:20260630
LOCATION:TSDMAAC (Confessional)\, Detroit
ORGANIZER;CN=:mailto:events@events.org
SEQUENCE:0
SUMMARY:Away With Words\, Judo\, Loveletters\, sixteen12swag\, Brittle Bul
 let
UID:881c05dd-395a-4366-8eac-8c0deafba306
URL:https://events.org/e/Away-With-Words-Judo-Loveletters-sixteen12swa/LHF
 UEJEB
BEGIN:VALARM
ACTION:DISPLAY
SUMMARY:Reminder
TRIGGER:-P1D
END:VALARM
END:VEVENT
END:VCALENDAR
