BEGIN:VCALENDAR
METHOD:REQUEST
PRODID:-//events.orgNONSGML ical.net 4.0//EN
VERSION:2.0
BEGIN:VEVENT
DTEND;VALUE=DATE:20260524
DTSTAMP:20260422T084600Z
DTSTART;VALUE=DATE:20260524
LOCATION:Logan Square Auditorium\, Chicago
ORGANIZER;CN=:mailto:events@events.org
SEQUENCE:0
SUMMARY:ChRocktikal the 1st World Tour [CRTK: The Beginning] in Chicago
UID:ff5fafca-0a24-4aba-ae24-6797173ff625
URL:https://events.org/e/ChRocktikal-the-1st-World-Tour-CRTK-The-Begin/UD6
 XGYCX
BEGIN:VALARM
ACTION:DISPLAY
SUMMARY:Reminder
TRIGGER:-P1D
END:VALARM
END:VEVENT
END:VCALENDAR
