BEGIN:VCALENDAR
METHOD:REQUEST
PRODID:-//events.orgNONSGML ical.net 4.0//EN
VERSION:2.0
BEGIN:VEVENT
DTEND;VALUE=DATE:20261022
DTSTAMP:20260424T092055Z
DTSTART;VALUE=DATE:20261022
LOCATION:Lincoln Theatre\, Washington
ORGANIZER;CN=:mailto:events@events.org
SEQUENCE:0
SUMMARY:EMEI - Night at the Opera Tour
UID:1438eb8d-cde4-41b5-9e05-6d9eae22f1f2
URL:https://events.org/e/EMEI---Night-at-the-Opera-Tour/7RU22AHV
BEGIN:VALARM
ACTION:DISPLAY
SUMMARY:Reminder
TRIGGER:-P1D
END:VALARM
END:VEVENT
END:VCALENDAR
