BEGIN:VCALENDAR
METHOD:REQUEST
PRODID:-//events.orgNONSGML ical.net 4.0//EN
VERSION:2.0
BEGIN:VEVENT
DTEND;VALUE=DATE:20260523
DTSTAMP:20260421T103756Z
DTSTART;VALUE=DATE:20260523
LOCATION:Palace of Fine Arts\, San Francisco
ORGANIZER;CN=:mailto:events@events.org
SEQUENCE:0
SUMMARY:Lucy Darling: Simply Darling
UID:bacb164f-fb03-4af6-9cd1-b665e8bf4d69
URL:https://events.org/e/Lucy-Darling-Simply-Darling/M367NPJI
BEGIN:VALARM
ACTION:DISPLAY
SUMMARY:Reminder
TRIGGER:-P1D
END:VALARM
END:VEVENT
END:VCALENDAR
