BEGIN:VCALENDAR
METHOD:REQUEST
PRODID:-//events.orgNONSGML ical.net 4.0//EN
VERSION:2.0
BEGIN:VEVENT
DTEND;VALUE=DATE:20260521
DTSTAMP:20260422T090634Z
DTSTART;VALUE=DATE:20260521
LOCATION:Empty Bottle\, Chicago
ORGANIZER;CN=:mailto:events@events.org
SEQUENCE:0
SUMMARY:*SOLD OUT* Just Mustard / Miss Grit
UID:e90cb2aa-9aae-4a78-a09a-8e3728f2858c
URL:https://events.org/e/SOLD-OUT-Just-Mustard-Miss-Grit/WDO543VI
BEGIN:VALARM
ACTION:DISPLAY
SUMMARY:Reminder
TRIGGER:-P1D
END:VALARM
END:VEVENT
END:VCALENDAR
