BEGIN:VCALENDAR
METHOD:REQUEST
PRODID:-//events.orgNONSGML ical.net 4.0//EN
VERSION:2.0
BEGIN:VEVENT
DTEND;VALUE=DATE:20260905
DTSTAMP:20260423T133643Z
DTSTART;VALUE=DATE:20260905
LOCATION:Raymond James Stadium\, Tampa
ORGANIZER;CN=:mailto:events@events.org
SEQUENCE:0
SUMMARY:South Florida Bulls Football vs. Florida International University 
 Football
UID:64aba317-3347-4ea1-9d0a-5430c3451d93
URL:https://events.org/e/South-Florida-Bulls-Football-vs-Florida-Inter/4PS
 56MGO
BEGIN:VALARM
ACTION:DISPLAY
SUMMARY:Reminder
TRIGGER:-P1D
END:VALARM
END:VEVENT
END:VCALENDAR
