BEGIN:VCALENDAR
METHOD:REQUEST
PRODID:-//events.orgNONSGML ical.net 4.0//EN
VERSION:2.0
BEGIN:VEVENT
DTEND;VALUE=DATE:20260614
DTSTAMP:20260421T104348Z
DTSTART;VALUE=DATE:20260614
LOCATION:Ophelia's Electric Soapbox\, Denver
ORGANIZER;CN=:mailto:events@events.org
SEQUENCE:0
SUMMARY:Flawed Mangoes: The Killswitch Memories Tour
UID:82a2043b-4ebd-4881-882c-529eba46bf76
URL:https://events.org/e/Flawed-Mangoes-The-Killswitch-Memories-Tour/4TOP6
 OAP
BEGIN:VALARM
ACTION:DISPLAY
SUMMARY:Reminder
TRIGGER:-P1D
END:VALARM
END:VEVENT
END:VCALENDAR
