BEGIN:VCALENDAR
METHOD:REQUEST
PRODID:-//events.orgNONSGML ical.net 4.0//EN
VERSION:2.0
BEGIN:VEVENT
DTEND;VALUE=DATE:20260425
DTSTAMP:20260419T142915Z
DTSTART;VALUE=DATE:20260425
LOCATION:Empty Bottle\, Chicago
ORGANIZER;CN=:mailto:events@events.org
SEQUENCE:0
SUMMARY:Accessory (Record Release) / Facing / Cancer House
UID:afc00d23-85f7-46d4-96ba-b8b4003a40d7
URL:https://events.org/e/Accessory-Record-Release-Facing-Cancer-House/6WXY
 LYKT
BEGIN:VALARM
ACTION:DISPLAY
SUMMARY:Reminder
TRIGGER:-P1D
END:VALARM
END:VEVENT
END:VCALENDAR
