BEGIN:VCALENDAR
METHOD:REQUEST
PRODID:-//events.orgNONSGML ical.net 4.0//EN
VERSION:2.0
BEGIN:VEVENT
DTEND;VALUE=DATE:20260622
DTSTAMP:20260421T103640Z
DTSTART;VALUE=DATE:20260622
LOCATION:Cal Coast Credit Union Open Air Theatre at SDSU\, San Diego
ORGANIZER;CN=:mailto:events@events.org
SEQUENCE:0
SUMMARY:Khalid: It's Always Summer Somewhere Tour
UID:c78b92b7-55f7-4355-83de-929aad62fd5b
URL:https://events.org/e/Khalid-Its-Always-Summer-Somewhere-Tour/S4BG5L5X
BEGIN:VALARM
ACTION:DISPLAY
SUMMARY:Reminder
TRIGGER:-P1D
END:VALARM
END:VEVENT
END:VCALENDAR
