BEGIN:VCALENDAR
METHOD:REQUEST
PRODID:-//events.orgNONSGML ical.net 4.0//EN
VERSION:2.0
BEGIN:VEVENT
DTEND;VALUE=DATE:20260529
DTSTAMP:20260424T081054Z
DTSTART;VALUE=DATE:20260529
LOCATION:Soldier Field\, Chicago
ORGANIZER;CN=:mailto:events@events.org
SEQUENCE:0
SUMMARY:Classic Stadium Tour
UID:c14d3cb9-3982-490b-9bcf-8d6dfeff378f
URL:https://events.org/e/Classic-Stadium-Tour/2AJ2B2Y7
BEGIN:VALARM
ACTION:DISPLAY
SUMMARY:Reminder
TRIGGER:-P1D
END:VALARM
END:VEVENT
END:VCALENDAR
