BEGIN:VCALENDAR
METHOD:REQUEST
PRODID:-//events.orgNONSGML ical.net 4.0//EN
VERSION:2.0
BEGIN:VEVENT
DTEND;VALUE=DATE:20261012
DTSTAMP:20260422T083838Z
DTSTART;VALUE=DATE:20261012
LOCATION:Fox Theatre Detroit\, Detroit
ORGANIZER;CN=:mailto:events@events.org
SEQUENCE:0
SUMMARY:BECK: RIDE LONESOME TOUR
UID:14145d03-40fd-41fc-a389-9d95febb5c66
URL:https://events.org/e/BECK-RIDE-LONESOME-TOUR/QTYJR72D
BEGIN:VALARM
ACTION:DISPLAY
SUMMARY:Reminder
TRIGGER:-P1D
END:VALARM
END:VEVENT
END:VCALENDAR
