BEGIN:VCALENDAR
METHOD:REQUEST
PRODID:-//events.orgNONSGML ical.net 4.0//EN
VERSION:2.0
BEGIN:VEVENT
DTEND;VALUE=DATE:20260728
DTSTAMP:20260421T082048Z
DTSTART;VALUE=DATE:20260728
LOCATION:The Rebel Lounge\, Phoenix
ORGANIZER;CN=:mailto:events@events.org
SEQUENCE:0
SUMMARY:The Body
UID:523a9021-826a-4077-aa5a-0fba4f112de3
URL:https://events.org/e/The-Body/OT5HTQC3
BEGIN:VALARM
ACTION:DISPLAY
SUMMARY:Reminder
TRIGGER:-P1D
END:VALARM
END:VEVENT
END:VCALENDAR
