BEGIN:VCALENDAR
METHOD:REQUEST
PRODID:-//events.orgNONSGML ical.net 4.0//EN
VERSION:2.0
BEGIN:VEVENT
DTEND;VALUE=DATE:20260925
DTSTAMP:20260422T090404Z
DTSTART;VALUE=DATE:20260925
LOCATION:The Rebel Lounge\, Phoenix
ORGANIZER;CN=:mailto:events@events.org
SEQUENCE:0
SUMMARY:Joshua Ray Walker
UID:6386fb80-0370-4f56-ac5c-5984007808fc
URL:https://events.org/e/Joshua-Ray-Walker/DENGWMVG
BEGIN:VALARM
ACTION:DISPLAY
SUMMARY:Reminder
TRIGGER:-P1D
END:VALARM
END:VEVENT
END:VCALENDAR
