BEGIN:VCALENDAR
METHOD:REQUEST
PRODID:-//events.orgNONSGML ical.net 4.0//EN
VERSION:2.0
BEGIN:VEVENT
DTEND;VALUE=DATE:20260426
DTSTAMP:20260422T085024Z
DTSTART;VALUE=DATE:20260426
LOCATION:Lena Horne Theatre\, New York
ORGANIZER;CN=:mailto:events@events.org
SEQUENCE:0
SUMMARY:Six (New York\, NY)
UID:e2e72333-6402-4b98-aee0-79a1605d23b2
URL:https://events.org/e/Six-New-York-NY/3LAHC799
BEGIN:VALARM
ACTION:DISPLAY
SUMMARY:Reminder
TRIGGER:-P1D
END:VALARM
END:VEVENT
END:VCALENDAR
