BEGIN:VCALENDAR
METHOD:REQUEST
PRODID:-//events.orgNONSGML ical.net 4.0//EN
VERSION:2.0
BEGIN:VEVENT
DTEND;VALUE=DATE:20260506
DTSTAMP:20260421T095414Z
DTSTART;VALUE=DATE:20260506
LOCATION:Greek Theatre\, Los Angeles
ORGANIZER;CN=:mailto:events@events.org
SEQUENCE:0
SUMMARY:Netflix Is A Joke Presents: Seth Goes Greek
UID:4873fc4d-f61d-43bb-a460-8639fb3c34e3
URL:https://events.org/e/Netflix-Is-A-Joke-Presents-Seth-Goes-Greek/MAVY4V
 B2
BEGIN:VALARM
ACTION:DISPLAY
SUMMARY:Reminder
TRIGGER:-P1D
END:VALARM
END:VEVENT
END:VCALENDAR
