BEGIN:VCALENDAR
METHOD:REQUEST
PRODID:-//events.orgNONSGML ical.net 4.0//EN
VERSION:2.0
BEGIN:VEVENT
DTEND;VALUE=DATE:20260329
DTSTAMP:20260419T125958Z
DTSTART;VALUE=DATE:20260329
LOCATION:United Center\, Chicago
ORGANIZER;CN=:mailto:events@events.org
SEQUENCE:0
SUMMARY:2026 NCAA Men's Basketball Championship - Midwest Regional
UID:21584500-ca02-496d-adbd-a01ceedc9150
URL:https://events.org/e/2026-NCAA-Mens-Basketball-Championship---Midw/O9P
 9FNQN
BEGIN:VALARM
ACTION:DISPLAY
SUMMARY:Reminder
TRIGGER:-P1D
END:VALARM
END:VEVENT
END:VCALENDAR
