BEGIN:VCALENDAR
METHOD:REQUEST
PRODID:-//events.orgNONSGML ical.net 4.0//EN
VERSION:2.0
BEGIN:VEVENT
DTEND;VALUE=DATE:20260423
DTSTAMP:20260422T090715Z
DTSTART;VALUE=DATE:20260423
LOCATION:Night Club 101\, New York
ORGANIZER;CN=:mailto:events@events.org
SEQUENCE:0
SUMMARY:Horse Vision\, Ivy Knight
UID:0ff55379-876c-45bd-89b8-eda721c552e3
URL:https://events.org/e/Horse-Vision-Ivy-Knight/SOGP5PGA
BEGIN:VALARM
ACTION:DISPLAY
SUMMARY:Reminder
TRIGGER:-P1D
END:VALARM
END:VEVENT
END:VCALENDAR
