BEGIN:VCALENDAR
METHOD:REQUEST
PRODID:-//events.orgNONSGML ical.net 4.0//EN
VERSION:2.0
BEGIN:VEVENT
DTEND;VALUE=DATE:20260924
DTSTAMP:20260419T130431Z
DTSTART;VALUE=DATE:20260924
LOCATION:Mortgage Matchup Center\, Phoenix
ORGANIZER;CN=:mailto:events@events.org
SEQUENCE:0
SUMMARY:Phoenix Mercury vs. Las Vegas Aces
UID:16fe5c58-e6db-4b6c-abfb-41e1d57b2f5b
URL:https://events.org/e/Phoenix-Mercury-vs-Las-Vegas-Aces/GIGFNI6C
BEGIN:VALARM
ACTION:DISPLAY
SUMMARY:Reminder
TRIGGER:-P1D
END:VALARM
END:VEVENT
END:VCALENDAR
