BEGIN:VCALENDAR
METHOD:REQUEST
PRODID:-//events.orgNONSGML ical.net 4.0//EN
VERSION:2.0
BEGIN:VEVENT
DTEND;VALUE=DATE:20260514
DTSTAMP:20260423T133335Z
DTSTART;VALUE=DATE:20260514
LOCATION:Brooklyn Bowl Philadelphia\, Philadelphia
ORGANIZER;CN=:mailto:events@events.org
SEQUENCE:0
SUMMARY:Natalie Nunn
UID:76861b25-255f-4565-8308-ff16bea554a1
URL:https://events.org/e/Natalie-Nunn/SSF74WM3
BEGIN:VALARM
ACTION:DISPLAY
SUMMARY:Reminder
TRIGGER:-P1D
END:VALARM
END:VEVENT
END:VCALENDAR
