BEGIN:VCALENDAR
METHOD:REQUEST
PRODID:-//events.orgNONSGML ical.net 4.0//EN
VERSION:2.0
BEGIN:VEVENT
DTEND;VALUE=DATE:20260424
DTSTAMP:20260422T090634Z
DTSTART;VALUE=DATE:20260424
LOCATION:Palace Theatre New York\, New York
ORGANIZER;CN=:mailto:events@events.org
SEQUENCE:0
SUMMARY:The Lost Boys
UID:c66a6d98-b834-49a5-a828-92cbef0c413f
URL:https://events.org/e/The-Lost-Boys/7L44D4AL
BEGIN:VALARM
ACTION:DISPLAY
SUMMARY:Reminder
TRIGGER:-P1D
END:VALARM
END:VEVENT
END:VCALENDAR
