BEGIN:VCALENDAR
METHOD:REQUEST
PRODID:-//events.orgNONSGML ical.net 4.0//EN
VERSION:2.0
BEGIN:VEVENT
DTEND;VALUE=DATE:20260508
DTSTAMP:20260421T164354Z
DTSTART;VALUE=DATE:20260508
LOCATION:Nectar Lounge\, Seattle
ORGANIZER;CN=:mailto:events@events.org
SEQUENCE:0
SUMMARY:TiK ToK 2010s Recession Pop Dance Night
UID:ff6429ca-4ac9-44aa-84bc-de1197641825
URL:https://events.org/e/TiK-ToK-2010s-Recession-Pop-Dance-Night/J3352XRV
BEGIN:VALARM
ACTION:DISPLAY
SUMMARY:Reminder
TRIGGER:-P1D
END:VALARM
END:VEVENT
END:VCALENDAR
