BEGIN:VCALENDAR
METHOD:REQUEST
PRODID:-//events.orgNONSGML ical.net 4.0//EN
VERSION:2.0
BEGIN:VEVENT
DTEND;VALUE=DATE:20260522
DTSTAMP:20260424T080551Z
DTSTART;VALUE=DATE:20260522
LOCATION:The Moroccan Lounge\, Los Angeles
ORGANIZER;CN=:mailto:events@events.org
SEQUENCE:0
SUMMARY:Yxngxr1: Earnie Byrne Live
UID:f5bbdf8a-9a09-472d-8dc0-ed047fb2bb47
URL:https://events.org/e/Yxngxr1-Earnie-Byrne-Live/JWCA367L
BEGIN:VALARM
ACTION:DISPLAY
SUMMARY:Reminder
TRIGGER:-P1D
END:VALARM
END:VEVENT
END:VCALENDAR
