BEGIN:VCALENDAR
METHOD:REQUEST
PRODID:-//events.orgNONSGML ical.net 4.0//EN
VERSION:2.0
BEGIN:VEVENT
DTEND;VALUE=DATE:20260627
DTSTAMP:20260421T094700Z
DTSTART;VALUE=DATE:20260627
LOCATION:Boch Center Shubert Theatre\, Boston
ORGANIZER;CN=:mailto:events@events.org
SEQUENCE:0
SUMMARY:Rob Schneider: Live
UID:8d0df06f-0ae5-4c08-916f-f224110c8972
URL:https://events.org/e/Rob-Schneider-Live/SPLK6HES
BEGIN:VALARM
ACTION:DISPLAY
SUMMARY:Reminder
TRIGGER:-P1D
END:VALARM
END:VEVENT
END:VCALENDAR
