BEGIN:VCALENDAR
METHOD:REQUEST
PRODID:-//events.orgNONSGML ical.net 4.0//EN
VERSION:2.0
BEGIN:VEVENT
DTEND;VALUE=DATE:20260525
DTSTAMP:20260419T142817Z
DTSTART;VALUE=DATE:20260525
LOCATION:The Crocodile\, Seattle
ORGANIZER;CN=:mailto:events@events.org
SEQUENCE:0
SUMMARY:CHAPTERHOUSE: Whirlpool 35 - Performing their classic debut album 
 in full w/ The Asteroid No.4
UID:595fdc87-15bd-4b80-90dd-8883787e64f3
URL:https://events.org/e/CHAPTERHOUSE-Whirlpool-35---Performing-their/5I5Q
 FPMM
BEGIN:VALARM
ACTION:DISPLAY
SUMMARY:Reminder
TRIGGER:-P1D
END:VALARM
END:VEVENT
END:VCALENDAR
