BEGIN:VCALENDAR
METHOD:REQUEST
PRODID:-//events.orgNONSGML ical.net 4.0//EN
VERSION:2.0
BEGIN:VEVENT
DTEND;VALUE=DATE:20250503
DTSTAMP:20260423T155730Z
DTSTART;VALUE=DATE:20250503
LOCATION:Grace Midtown Church\, Atlanta
ORGANIZER;CN=:mailto:events@events.org
SEQUENCE:0
SUMMARY:The Choir Room: The Choir Is Back Tour 2025 - Atlanta\, GA
UID:c63eaf50-e7bd-4506-baf3-7f416c0f55fd
URL:https://events.org/e/The-Choir-Room-The-Choir-Is-Back-Tour-2025--/ME8R
 2MPJ
BEGIN:VALARM
ACTION:DISPLAY
SUMMARY:Reminder
TRIGGER:-P1D
END:VALARM
END:VEVENT
END:VCALENDAR
