BEGIN:VCALENDAR
METHOD:REQUEST
PRODID:-//events.orgNONSGML ical.net 4.0//EN
VERSION:2.0
BEGIN:VEVENT
DTEND;VALUE=DATE:20260508
DTSTAMP:20260423T134300Z
DTSTART;VALUE=DATE:20260508
LOCATION:Dynasty Typewriter at the Hayworth\, Los Angeles
ORGANIZER;CN=:mailto:events@events.org
SEQUENCE:0
SUMMARY:Netflix is a Joke Presents: The Legend of Crystal Shell
UID:972aaf1d-abbc-41ab-b8b9-6aaad1b323f2
URL:https://events.org/e/Netflix-is-a-Joke-Presents-The-Legend-of-Crys/L6C
 VL2U9
BEGIN:VALARM
ACTION:DISPLAY
SUMMARY:Reminder
TRIGGER:-P1D
END:VALARM
END:VEVENT
END:VCALENDAR
