BEGIN:VCALENDAR
METHOD:REQUEST
PRODID:-//events.orgNONSGML ical.net 4.0//EN
VERSION:2.0
BEGIN:VEVENT
DTEND;VALUE=DATE:20260620
DTSTAMP:20260421T104012Z
DTSTART;VALUE=DATE:20260620
LOCATION:Cal Coast Credit Union Open Air Theatre at SDSU\, San Diego
ORGANIZER;CN=:mailto:events@events.org
SEQUENCE:0
SUMMARY:Ziggy Marley: Brightside Tour 2026
UID:b80e665e-430e-4fa5-a67c-f47d0ac1556c
URL:https://events.org/e/Ziggy-Marley-Brightside-Tour-2026/HM7XCY26
BEGIN:VALARM
ACTION:DISPLAY
SUMMARY:Reminder
TRIGGER:-P1D
END:VALARM
END:VEVENT
END:VCALENDAR
