BEGIN:VCALENDAR
METHOD:REQUEST
PRODID:-//events.orgNONSGML ical.net 4.0//EN
VERSION:2.0
BEGIN:VEVENT
DTEND;VALUE=DATE:20260425
DTSTAMP:20260419T142802Z
DTSTART;VALUE=DATE:20260425
LOCATION:Reggie's Rock Club\, Chicago
ORGANIZER;CN=:mailto:events@events.org
SEQUENCE:0
SUMMARY:Slomosa w/ The Mainliners
UID:e3eec2e0-fbf2-433c-824b-7afb2223a626
URL:https://events.org/e/Slomosa-w-The-Mainliners/EIRHHSMS
BEGIN:VALARM
ACTION:DISPLAY
SUMMARY:Reminder
TRIGGER:-P1D
END:VALARM
END:VEVENT
END:VCALENDAR
