BEGIN:VCALENDAR
METHOD:REQUEST
PRODID:-//events.orgNONSGML ical.net 4.0//EN
VERSION:2.0
BEGIN:VEVENT
DTEND;VALUE=DATE:20260425
DTSTAMP:20260421T094942Z
DTSTART;VALUE=DATE:20260425
LOCATION:Taper Auditorium\, Seattle
ORGANIZER;CN=:mailto:events@events.org
SEQUENCE:0
SUMMARY:Seattle Symphony: Xian Conducts Saint-Saens Featuring Daniil Trifo
 nov
UID:c1436de2-7d62-401b-a3d6-b056e1335e53
URL:https://events.org/e/Seattle-Symphony-Xian-Conducts-Saint-Saens-Fe/6CS
 J5N9U
BEGIN:VALARM
ACTION:DISPLAY
SUMMARY:Reminder
TRIGGER:-P1D
END:VALARM
END:VEVENT
END:VCALENDAR
