BEGIN:VCALENDAR
METHOD:REQUEST
PRODID:-//events.orgNONSGML ical.net 4.0//EN
VERSION:2.0
BEGIN:VEVENT
DTEND;VALUE=DATE:20260529
DTSTAMP:20260424T081055Z
DTSTART;VALUE=DATE:20260529
LOCATION:Rate Field\, Chicago
ORGANIZER;CN=:mailto:events@events.org
SEQUENCE:0
SUMMARY:Chicago White Sox vs. Detroit Tigers
UID:7121bbd1-080f-4332-a99e-304205c19497
URL:https://events.org/e/Chicago-White-Sox-vs-Detroit-Tigers/HUNL5TXM
BEGIN:VALARM
ACTION:DISPLAY
SUMMARY:Reminder
TRIGGER:-P1D
END:VALARM
END:VEVENT
END:VCALENDAR
