BEGIN:VCALENDAR
METHOD:REQUEST
PRODID:-//events.orgNONSGML ical.net 4.0//EN
VERSION:2.0
BEGIN:VEVENT
DTEND;VALUE=DATE:20260422
DTSTAMP:20260422T090345Z
DTSTART;VALUE=DATE:20260422
LOCATION:Blue Note Jazz Club\, New York
ORGANIZER;CN=:mailto:events@events.org
SEQUENCE:0
SUMMARY:James Carter Presents: TRANE: A CENTENNIAL SUPREME! with Special G
 uest Steve Turre
UID:8b3a0ff6-7c44-4fc1-a421-22d7ef93c994
URL:https://events.org/e/James-Carter-Presents-TRANE-A-CENTENNIAL-SUPR/7DD
 WG7L3
BEGIN:VALARM
ACTION:DISPLAY
SUMMARY:Reminder
TRIGGER:-P1D
END:VALARM
END:VEVENT
END:VCALENDAR
