BEGIN:VCALENDAR
METHOD:REQUEST
PRODID:-//events.orgNONSGML ical.net 4.0//EN
VERSION:2.0
BEGIN:VEVENT
DTEND;VALUE=DATE:20260427
DTSTAMP:20260424T080751Z
DTSTART;VALUE=DATE:20260427
LOCATION:The Apollo's Victoria Theater 1\, New York
ORGANIZER;CN=:mailto:events@events.org
SEQUENCE:0
SUMMARY: Dance Magazine's 2026 25 to Watch
UID:be712e32-1a3c-4779-b482-c1d37bd92fef
URL:https://events.org/e/Dance-Magazines-2026-25-to-Watch/CQBITL7H
BEGIN:VALARM
ACTION:DISPLAY
SUMMARY:Reminder
TRIGGER:-P1D
END:VALARM
END:VEVENT
END:VCALENDAR
