BEGIN:VCALENDAR
METHOD:REQUEST
PRODID:-//events.orgNONSGML ical.net 4.0//EN
VERSION:2.0
BEGIN:VEVENT
DTEND;VALUE=DATE:20260603
DTSTAMP:20260421T095250Z
DTSTART;VALUE=DATE:20260603
LOCATION:Buell Theatre\, Denver
ORGANIZER;CN=:mailto:events@events.org
SEQUENCE:0
SUMMARY:Harry Potter and the Cursed Child (Touring)
UID:f1a4873a-7386-4cb3-91a4-54d6297986c1
URL:https://events.org/e/Harry-Potter-and-the-Cursed-Child-Touring/OL6NYU29
BEGIN:VALARM
ACTION:DISPLAY
SUMMARY:Reminder
TRIGGER:-P1D
END:VALARM
END:VEVENT
END:VCALENDAR
