BEGIN:VCALENDAR
METHOD:REQUEST
PRODID:-//events.orgNONSGML ical.net 4.0//EN
VERSION:2.0
BEGIN:VEVENT
DTEND;VALUE=DATE:20260701
DTSTAMP:20260423T133939Z
DTSTART;VALUE=DATE:20260701
LOCATION:Kaseya Center\, Miami
ORGANIZER;CN=:mailto:events@events.org
SEQUENCE:0
SUMMARY:SHAKIRA - LAS MUJERES YA NO LLORAN WORLD TOUR
UID:d7db93c9-f924-427c-817b-d9c4c2376f14
URL:https://events.org/e/SHAKIRA---LAS-MUJERES-YA-NO-LLORAN-WORLD-TOUR/EUV
 AKFOS
BEGIN:VALARM
ACTION:DISPLAY
SUMMARY:Reminder
TRIGGER:-P1D
END:VALARM
END:VEVENT
END:VCALENDAR
