BEGIN:VCALENDAR
METHOD:REQUEST
PRODID:-//events.orgNONSGML ical.net 4.0//EN
VERSION:2.0
BEGIN:VEVENT
DTEND;VALUE=DATE:20260708
DTSTAMP:20260422T091936Z
DTSTART;VALUE=DATE:20260708
LOCATION:Tabernacle\, Atlanta
ORGANIZER;CN=:mailto:events@events.org
SEQUENCE:0
SUMMARY:Flyleaf with Lacey Sturm - 20th Anniversary Tour
UID:ceb940df-8a98-46e5-a28e-e5746e31b7bc
URL:https://events.org/e/Flyleaf-with-Lacey-Sturm---20th-Anniversary-Tour/
 AKGAH9U8
BEGIN:VALARM
ACTION:DISPLAY
SUMMARY:Reminder
TRIGGER:-P1D
END:VALARM
END:VEVENT
END:VCALENDAR
