BEGIN:VCALENDAR
METHOD:REQUEST
PRODID:-//events.orgNONSGML ical.net 4.0//EN
VERSION:2.0
BEGIN:VEVENT
DTEND;VALUE=DATE:20260501
DTSTAMP:20260423T094055Z
DTSTART;VALUE=DATE:20260501
LOCATION:Gilley's Dallas\, Dallas
ORGANIZER;CN=:mailto:events@events.org
SEQUENCE:0
SUMMARY:One Direction Night at South Side Music Hall
UID:5f308ceb-cf3d-40ab-a6b1-fe61400f926b
URL:https://events.org/e/One-Direction-Night-at-South-Side-Music-Hall/3DXC
 J7HY
BEGIN:VALARM
ACTION:DISPLAY
SUMMARY:Reminder
TRIGGER:-P1D
END:VALARM
END:VEVENT
END:VCALENDAR
