BEGIN:VCALENDAR
METHOD:REQUEST
PRODID:-//events.orgNONSGML ical.net 4.0//EN
VERSION:2.0
BEGIN:VEVENT
DTEND;VALUE=DATE:20260531
DTSTAMP:20260421T082717Z
DTSTART;VALUE=DATE:20260531
LOCATION:San Diego Civic Theatre\, San Diego
ORGANIZER;CN=:mailto:events@events.org
SEQUENCE:0
SUMMARY:The Sound of Music (Touring)
UID:5abaadff-816a-42ec-8239-41ce25215fa3
URL:https://events.org/e/The-Sound-of-Music-Touring/HOQCA54O
BEGIN:VALARM
ACTION:DISPLAY
SUMMARY:Reminder
TRIGGER:-P1D
END:VALARM
END:VEVENT
END:VCALENDAR
