BEGIN:VCALENDAR
METHOD:REQUEST
PRODID:-//events.orgNONSGML ical.net 4.0//EN
VERSION:2.0
BEGIN:VEVENT
DTEND;VALUE=DATE:20260911
DTSTAMP:20260422T091017Z
DTSTART;VALUE=DATE:20260911
LOCATION:Dos Equis Pavilion\, Dallas
ORGANIZER;CN=:mailto:events@events.org
SEQUENCE:0
SUMMARY:Tim McGraw: Pawn Shop Guitar Tour 2026
UID:dd6be6f7-858e-4e4b-8c1f-8c701c475672
URL:https://events.org/e/Tim-McGraw-Pawn-Shop-Guitar-Tour-2026/DJCP3QT9
BEGIN:VALARM
ACTION:DISPLAY
SUMMARY:Reminder
TRIGGER:-P1D
END:VALARM
END:VEVENT
END:VCALENDAR
