BEGIN:VCALENDAR
METHOD:REQUEST
PRODID:-//events.orgNONSGML ical.net 4.0//EN
VERSION:2.0
BEGIN:VEVENT
DTEND;VALUE=DATE:20260618
DTSTAMP:20260419T144223Z
DTSTART;VALUE=DATE:20260618
LOCATION:Petco Park\, San Diego
ORGANIZER;CN=:mailto:events@events.org
SEQUENCE:0
SUMMARY:Fuerza Regida: This Is Our Dream Stadium Tour 2026
UID:a5f2f9df-77ae-48a7-8774-993d6c71d027
URL:https://events.org/e/Fuerza-Regida-This-Is-Our-Dream-Stadium-Tour-2026
 /MCPSI8NS
BEGIN:VALARM
ACTION:DISPLAY
SUMMARY:Reminder
TRIGGER:-P1D
END:VALARM
END:VEVENT
END:VCALENDAR
