BEGIN:VCALENDAR
METHOD:REQUEST
PRODID:-//events.orgNONSGML ical.net 4.0//EN
VERSION:2.0
BEGIN:VEVENT
DTEND;VALUE=DATE:20260425
DTSTAMP:20260421T095837Z
DTSTART;VALUE=DATE:20260425
LOCATION:The Salt Shed Indoors (Shed)\, Chicago
ORGANIZER;CN=:mailto:events@events.org
SEQUENCE:0
SUMMARY:Stephen Wilson Jr. - Gary The Torch Tour with Ashley Monroe
UID:39085e1d-f88c-4a80-b42a-8e3e7041d635
URL:https://events.org/e/Stephen-Wilson-Jr---Gary-The-Torch-Tour-with/N7VO
 7NNL
BEGIN:VALARM
ACTION:DISPLAY
SUMMARY:Reminder
TRIGGER:-P1D
END:VALARM
END:VEVENT
END:VCALENDAR
