BEGIN:VCALENDAR
METHOD:REQUEST
PRODID:-//events.orgNONSGML ical.net 4.0//EN
VERSION:2.0
BEGIN:VEVENT
DTEND;VALUE=DATE:20260525
DTSTAMP:20260422T092141Z
DTSTART;VALUE=DATE:20260525
LOCATION:Denver Pavilions\, Denver
ORGANIZER;CN=:mailto:events@events.org
SEQUENCE:0
SUMMARY:Bodies - The Science Within - Denver
UID:24195ba8-d6d8-434a-bba2-d5a3b13bcea6
URL:https://events.org/e/Bodies---The-Science-Within---Denver/ESLB3MXG
BEGIN:VALARM
ACTION:DISPLAY
SUMMARY:Reminder
TRIGGER:-P1D
END:VALARM
END:VEVENT
END:VCALENDAR
