BEGIN:VCALENDAR
METHOD:REQUEST
PRODID:-//events.orgNONSGML ical.net 4.0//EN
VERSION:2.0
BEGIN:VEVENT
DTEND;VALUE=DATE:20260611
DTSTAMP:20260425T102044Z
DTSTART;VALUE=DATE:20260611
LOCATION:MilkBoy Philadelphia\, Philadelphia
ORGANIZER;CN=:mailto:events@events.org
SEQUENCE:0
SUMMARY:Dylan LeBlanc (21+ Event)
UID:db5d36f8-cb41-4e0c-beb4-e6604aeabb19
URL:https://events.org/e/Dylan-LeBlanc-21-Event/R32K8YHP
BEGIN:VALARM
ACTION:DISPLAY
SUMMARY:Reminder
TRIGGER:-P1D
END:VALARM
END:VEVENT
END:VCALENDAR
