BEGIN:VCALENDAR
METHOD:REQUEST
PRODID:-//events.orgNONSGML ical.net 4.0//EN
VERSION:2.0
BEGIN:VEVENT
DTEND;VALUE=DATE:20260613
DTSTAMP:20260419T143936Z
DTSTART;VALUE=DATE:20260613
LOCATION:Quartyard\, San Diego
ORGANIZER;CN=:mailto:events@events.org
SEQUENCE:0
SUMMARY:East Village Blues Fest - Ages 21+
UID:c1427bc7-e95b-4336-aae5-bf39251d55cd
URL:https://events.org/e/East-Village-Blues-Fest---Ages-21/VJDE5VU4
BEGIN:VALARM
ACTION:DISPLAY
SUMMARY:Reminder
TRIGGER:-P1D
END:VALARM
END:VEVENT
END:VCALENDAR
